BEGIN:VCALENDAR
VERSION:2.0
PRODID:-//USBA_Production - ECPv6.15.17.1//NONSGML v1.0//EN
CALSCALE:GREGORIAN
METHOD:PUBLISH
X-ORIGINAL-URL:https://www.usba.org
X-WR-CALDESC:Events for USBA_Production
REFRESH-INTERVAL;VALUE=DURATION:PT1H
X-Robots-Tag:noindex
X-PUBLISHED-TTL:PT1H
BEGIN:VTIMEZONE
TZID:America/New_York
BEGIN:DAYLIGHT
TZOFFSETFROM:-0500
TZOFFSETTO:-0400
TZNAME:EDT
DTSTART:20250309T070000
END:DAYLIGHT
BEGIN:STANDARD
TZOFFSETFROM:-0400
TZOFFSETTO:-0500
TZNAME:EST
DTSTART:20251102T060000
END:STANDARD
BEGIN:DAYLIGHT
TZOFFSETFROM:-0500
TZOFFSETTO:-0400
TZNAME:EDT
DTSTART:20260308T070000
END:DAYLIGHT
BEGIN:STANDARD
TZOFFSETFROM:-0400
TZOFFSETTO:-0500
TZNAME:EST
DTSTART:20261101T060000
END:STANDARD
BEGIN:DAYLIGHT
TZOFFSETFROM:-0500
TZOFFSETTO:-0400
TZNAME:EDT
DTSTART:20270314T070000
END:DAYLIGHT
BEGIN:STANDARD
TZOFFSETFROM:-0400
TZOFFSETTO:-0500
TZNAME:EST
DTSTART:20271107T060000
END:STANDARD
END:VTIMEZONE
BEGIN:VEVENT
DTSTART;VALUE=DATE:20260327
DTEND;VALUE=DATE:20260330
DTSTAMP:20260423T123356
CREATED:20260216T031706Z
LAST-MODIFIED:20260216T031706Z
UID:136-1774569600-1774828799@www.usba.org
SUMMARY:2026 US Boomerang Team Trials
DESCRIPTION:We are proud to announce the date and location for the 2026 US Boomerang Team trials!\nCome to Twin Rivers Park in Arlington\, Washington March 27th through the 29th to compete for 3 days and earn your spot on the 2026 US Boomerang Team.\n\n\nWe are looking to send up to 4\, 6-person teams to Indonesia from July 26th through August 5th to compete for the World Boomerang Cup!\n– 2x “Primary” teams. Open to all USBA members and US citizens who attend Trials\n– 1x Youth (under 18 years)\n– 1x “Young Adult” (18-25 years)\n\n\nThis event will be hosted by Richard and Daniel Bower. There will be options for staying in the Seattle metro area with local throwers. Or if you need help finding a hotel that can be arranged.\n\n\nOtherwise\, reach out to Richard Bower and Daniel Bower with any questions. We look forward to seeing you in March\, and having a great 2026 throwing season and WBC!
URL:https://www.usba.org/event/2026-us-boomerang-team-trials/
LOCATION:Twin Rivers Park\, Arlington\, WA\, United States
END:VEVENT
END:VCALENDAR